BEGIN:VCALENDAR
VERSION:2.0
PRODID:-//VIMooZ - ECPv6.15.20//NONSGML v1.0//EN
CALSCALE:GREGORIAN
METHOD:PUBLISH
X-WR-CALNAME:VIMooZ
X-ORIGINAL-URL:https://vimooz.com
X-WR-CALDESC:Events for VIMooZ
REFRESH-INTERVAL;VALUE=DURATION:PT1H
X-Robots-Tag:noindex
X-PUBLISHED-TTL:PT1H
BEGIN:VTIMEZONE
TZID:America/New_York
BEGIN:DAYLIGHT
TZOFFSETFROM:-0500
TZOFFSETTO:-0400
TZNAME:EDT
DTSTART:20250309T070000
END:DAYLIGHT
BEGIN:STANDARD
TZOFFSETFROM:-0400
TZOFFSETTO:-0500
TZNAME:EST
DTSTART:20251102T060000
END:STANDARD
BEGIN:DAYLIGHT
TZOFFSETFROM:-0500
TZOFFSETTO:-0400
TZNAME:EDT
DTSTART:20260308T070000
END:DAYLIGHT
BEGIN:STANDARD
TZOFFSETFROM:-0400
TZOFFSETTO:-0500
TZNAME:EST
DTSTART:20261101T060000
END:STANDARD
BEGIN:DAYLIGHT
TZOFFSETFROM:-0500
TZOFFSETTO:-0400
TZNAME:EDT
DTSTART:20270314T070000
END:DAYLIGHT
BEGIN:STANDARD
TZOFFSETFROM:-0400
TZOFFSETTO:-0500
TZNAME:EST
DTSTART:20271107T060000
END:STANDARD
END:VTIMEZONE
BEGIN:VEVENT
DTSTART;TZID=America/New_York:20260416T000000
DTEND;TZID=America/New_York:20260427T235959
DTSTAMP:20260422T010523
CREATED:20260413T101327Z
LAST-MODIFIED:20260413T101327Z
UID:157583-1776297600-1777334399@vimooz.com
SUMMARY:42nd Chicago Latino Film Festival
DESCRIPTION:Read more
URL:https://vimooz.com/calendar/42nd-chicago-latino-film-festival/
CATEGORIES:Film Festival Calendar
END:VEVENT
BEGIN:VEVENT
DTSTART;TZID=America/New_York:20260416T000000
DTEND;TZID=America/New_York:20260430T235959
DTSTAMP:20260422T010523
CREATED:20260324T153601Z
LAST-MODIFIED:20260324T153601Z
UID:157005-1776297600-1777593599@vimooz.com
SUMMARY:18th Milwaukee Film Festival
DESCRIPTION:Read more
URL:https://vimooz.com/calendar/18th-milwaukee-film-festival/
CATEGORIES:Film Festival Calendar,USA,Wisconsin
END:VEVENT
BEGIN:VEVENT
DTSTART;TZID=America/New_York:20260417T000000
DTEND;TZID=America/New_York:20260424T235959
DTSTAMP:20260422T010523
CREATED:20260331T132442Z
LAST-MODIFIED:20260406T145545Z
UID:157198-1776384000-1777075199@vimooz.com
SUMMARY:Amrum (in Theaters - LA)
DESCRIPTION:Read more
URL:https://vimooz.com/calendar/amrum-in-theaters-la/
CATEGORIES:Film Release Calendar
ATTACH;FMTTYPE=image/jpeg:https://images.vimooz.com/wp-content/uploads/2026/03/17165052/Amrum-Charlotte-Pavard.jpg
END:VEVENT
BEGIN:VEVENT
DTSTART;TZID=America/New_York:20260417T000000
DTEND;TZID=America/New_York:20260425T235959
DTSTAMP:20260422T010523
CREATED:20260418T122639Z
LAST-MODIFIED:20260418T122639Z
UID:157758-1776384000-1777161599@vimooz.com
SUMMARY:41st Guadalajara International Film Festival (FICG)
DESCRIPTION:Read more
URL:https://vimooz.com/calendar/41st-guadalajara-international-film-festival-ficg/
CATEGORIES:Film Festival Calendar
END:VEVENT
BEGIN:VEVENT
DTSTART;TZID=America/New_York:20260417T000000
DTEND;TZID=America/New_York:20260425T235959
DTSTAMP:20260422T010523
CREATED:20260420T122031Z
LAST-MODIFIED:20260420T122031Z
UID:157780-1776384000-1777161599@vimooz.com
SUMMARY:28th RiverRun International Film Festival (Winston-Salem\, NC)
DESCRIPTION:Read more
URL:https://vimooz.com/calendar/28th-riverrun-international-film-festival-winston-salem-nc/
CATEGORIES:Film Festival Calendar
END:VEVENT
BEGIN:VEVENT
DTSTART;TZID=America/New_York:20260417T000000
DTEND;TZID=America/New_York:20260426T235959
DTSTAMP:20260422T010523
CREATED:20260418T122102Z
LAST-MODIFIED:20260418T122239Z
UID:157752-1776384000-1777247999@vimooz.com
SUMMARY:34th Arizona International Film Festival
DESCRIPTION:Read more
URL:https://vimooz.com/calendar/34th-arizona-international-film-festival/
CATEGORIES:Film Festival Calendar
END:VEVENT
BEGIN:VEVENT
DTSTART;TZID=America/New_York:20260418T000000
DTEND;TZID=America/New_York:20260425T235959
DTSTAMP:20260422T010523
CREATED:20260413T102417Z
LAST-MODIFIED:20260413T102417Z
UID:157587-1776470400-1777161599@vimooz.com
SUMMARY:2026 Julien Dubuque International Film Festival
DESCRIPTION:Read more
URL:https://vimooz.com/calendar/2026-julien-dubuque-international-film-festival/
CATEGORIES:Film Festival Calendar
END:VEVENT
BEGIN:VEVENT
DTSTART;TZID=America/New_York:20260421T000000
DTEND;TZID=America/New_York:20260425T235959
DTSTAMP:20260422T010523
CREATED:20260418T122327Z
LAST-MODIFIED:20260418T122327Z
UID:157755-1776729600-1777161599@vimooz.com
SUMMARY:21st Myrtle Beach International Film Festival
DESCRIPTION:Read more
URL:https://vimooz.com/calendar/21st-myrtle-beach-international-film-festival/
CATEGORIES:Film Festival Calendar
END:VEVENT
BEGIN:VEVENT
DTSTART;TZID=America/New_York:20260422T000000
DTEND;TZID=America/New_York:20260422T235959
DTSTAMP:20260422T010523
CREATED:20260415T115549Z
LAST-MODIFIED:20260415T115549Z
UID:157647-1776816000-1776902399@vimooz.com
SUMMARY:Hulk Hogan: Real American (Netflix)
DESCRIPTION:Read more
URL:https://vimooz.com/calendar/hulk-hogan-real-american-netflix/
CATEGORIES:Film Release Calendar
ATTACH;FMTTYPE=image/jpeg:https://images.vimooz.com/wp-content/uploads/2026/04/09064325/Hulk-Hogan-Real-American.jpg
END:VEVENT
BEGIN:VEVENT
DTSTART;TZID=America/New_York:20260422T000000
DTEND;TZID=America/New_York:20260425T235959
DTSTAMP:20260422T010523
CREATED:20251229T165234Z
LAST-MODIFIED:20251229T165234Z
UID:155186-1776816000-1777161599@vimooz.com
SUMMARY:22nd Bosnian-Herzegovinian Film Festival
DESCRIPTION:Read more
URL:https://vimooz.com/calendar/22nd-bosnian-herzegovinian-film-festival/
CATEGORIES:Film Festival Calendar
END:VEVENT
BEGIN:VEVENT
DTSTART;TZID=America/New_York:20260422T000000
DTEND;TZID=America/New_York:20260425T235959
DTSTAMP:20260422T010523
CREATED:20260331T130309Z
LAST-MODIFIED:20260331T130309Z
UID:157167-1776816000-1777161599@vimooz.com
SUMMARY:22nd Bosnian-Herzegovinian Film Festival (BHFF)
DESCRIPTION:Read more
URL:https://vimooz.com/calendar/22nd-bosnian-herzegovinian-film-festival-bhff/
CATEGORIES:Film Festival Calendar,USA
END:VEVENT
BEGIN:VEVENT
DTSTART;TZID=America/New_York:20260422T000000
DTEND;TZID=America/New_York:20260426T235959
DTSTAMP:20260422T010523
CREATED:20260102T115000Z
LAST-MODIFIED:20260102T115000Z
UID:155222-1776816000-1777247999@vimooz.com
SUMMARY:2026 Minnesota Film Festival
DESCRIPTION:Read more
URL:https://vimooz.com/calendar/2026-minnesota-film-festival/
CATEGORIES:Film Festival Calendar
END:VEVENT
BEGIN:VEVENT
DTSTART;TZID=America/New_York:20260422T000000
DTEND;TZID=America/New_York:20260426T235959
DTSTAMP:20260422T010523
CREATED:20260331T130028Z
LAST-MODIFIED:20260331T130028Z
UID:157163-1776816000-1777247999@vimooz.com
SUMMARY:11th Indie Meme Film Festival
DESCRIPTION:Read more
URL:https://vimooz.com/calendar/11th-indie-meme-film-festival/
CATEGORIES:Film Festival Calendar,USA
END:VEVENT
BEGIN:VEVENT
DTSTART;TZID=America/New_York:20260422T000000
DTEND;TZID=America/New_York:20260426T235959
DTSTAMP:20260422T010523
CREATED:20260331T130222Z
LAST-MODIFIED:20260331T130222Z
UID:157165-1776816000-1777247999@vimooz.com
SUMMARY:56th USA Film Festival
DESCRIPTION:Read more
URL:https://vimooz.com/calendar/56th-usa-film-festival/
CATEGORIES:Film Festival Calendar,USA
END:VEVENT
BEGIN:VEVENT
DTSTART;TZID=America/New_York:20260422T000000
DTEND;TZID=America/New_York:20260426T235959
DTSTAMP:20260422T010523
CREATED:20260418T122942Z
LAST-MODIFIED:20260418T122942Z
UID:157760-1776816000-1777247999@vimooz.com
SUMMARY:23rd Indy Film Fest (Indianapolis\, IN)
DESCRIPTION:Read more
URL:https://vimooz.com/calendar/23rd-indy-film-fest-indianapolis-in/
CATEGORIES:Film Festival Calendar
END:VEVENT
BEGIN:VEVENT
DTSTART;TZID=America/New_York:20260423T000000
DTEND;TZID=America/New_York:20260423T235959
DTSTAMP:20260422T010523
CREATED:20260415T120601Z
LAST-MODIFIED:20260415T120601Z
UID:157667-1776902400-1776988799@vimooz.com
SUMMARY:The Trials of Winnie Mandela (Netflix)
DESCRIPTION:Read more
URL:https://vimooz.com/calendar/the-trials-of-winnie-mandela-netflix/
CATEGORIES:Film Release Calendar
ATTACH;FMTTYPE=image/jpeg:https://images.vimooz.com/wp-content/uploads/2026/04/05093550/The-Trials-of-Winnie-Mandela.jpg
END:VEVENT
BEGIN:VEVENT
DTSTART;TZID=America/New_York:20260423T000000
DTEND;TZID=America/New_York:20260426T235959
DTSTAMP:20260422T010523
CREATED:20260324T154619Z
LAST-MODIFIED:20260324T154619Z
UID:157019-1776902400-1777247999@vimooz.com
SUMMARY:24th Indian Film Festival of Los Angeles (IFFLA)
DESCRIPTION:Read more
URL:https://vimooz.com/calendar/24th-indian-film-festival-of-los-angeles-iffla/
CATEGORIES:California,Film Festival Calendar,USA
END:VEVENT
BEGIN:VEVENT
DTSTART;TZID=America/New_York:20260423T000000
DTEND;TZID=America/New_York:20260426T235959
DTSTAMP:20260422T010523
CREATED:20260410T172022Z
LAST-MODIFIED:20260410T172022Z
UID:157517-1776902400-1777247999@vimooz.com
SUMMARY:59th Humboldt International Film Festival
DESCRIPTION:Read more
URL:https://vimooz.com/calendar/59th-humboldt-international-film-festival/
CATEGORIES:Film Festival Calendar
END:VEVENT
BEGIN:VEVENT
DTSTART;TZID=America/New_York:20260423T000000
DTEND;TZID=America/New_York:20260426T235959
DTSTAMP:20260422T010523
CREATED:20260420T114331Z
LAST-MODIFIED:20260420T114331Z
UID:157770-1776902400-1777247999@vimooz.com
SUMMARY:25th Ashland Independent Film Festival
DESCRIPTION:Read more
URL:https://vimooz.com/calendar/25th-ashland-independent-film-festival/
CATEGORIES:Film Festival Calendar
END:VEVENT
BEGIN:VEVENT
DTSTART;TZID=America/New_York:20260423T000000
DTEND;TZID=America/New_York:20260426T235959
DTSTAMP:20260422T010523
CREATED:20260420T114609Z
LAST-MODIFIED:20260420T114609Z
UID:157772-1776902400-1777247999@vimooz.com
SUMMARY:5th Easthampton Film Festival (Easthampton\, MA)
DESCRIPTION:Read more
URL:https://vimooz.com/calendar/5th-easthampton-film-festival-easthampton-ma/
CATEGORIES:Film Festival Calendar
END:VEVENT
BEGIN:VEVENT
DTSTART;TZID=America/New_York:20260423T000000
DTEND;TZID=America/New_York:20260430T235959
DTSTAMP:20260422T010523
CREATED:20251217T114005Z
LAST-MODIFIED:20260406T145524Z
UID:154945-1776902400-1777593599@vimooz.com
SUMMARY:18th ReelAbilities Film Festival: New York
DESCRIPTION:Read more
URL:https://vimooz.com/calendar/18th-reelabilities-film-festival-new-york/
CATEGORIES:Film Festival Calendar
END:VEVENT
BEGIN:VEVENT
DTSTART;TZID=America/New_York:20260423T000000
DTEND;TZID=America/New_York:20260503T235959
DTSTAMP:20260422T010523
CREATED:20260402T121346Z
LAST-MODIFIED:20260402T121346Z
UID:157272-1776902400-1777852799@vimooz.com
SUMMARY:33rd Hot Docs Canadian International Documentary Festival
DESCRIPTION:Read more
URL:https://vimooz.com/calendar/33rd-hot-docs-canadian-international-documentary-festival/
CATEGORIES:Canada,Film Festival Calendar
END:VEVENT
BEGIN:VEVENT
DTSTART;TZID=America/New_York:20260424T000000
DTEND;TZID=America/New_York:20260424T235959
DTSTAMP:20260422T010523
CREATED:20260228T133208Z
LAST-MODIFIED:20260228T133208Z
UID:156501-1776988800-1777075199@vimooz.com
SUMMARY:Over Your Dead Body (in Theaters)
DESCRIPTION:Read more
URL:https://vimooz.com/calendar/over-your-dead-body-in-theaters/
CATEGORIES:Film Release Calendar
ATTACH;FMTTYPE=image/jpeg:https://images.vimooz.com/wp-content/uploads/2026/02/20063548/Over-Your-Dead-Body_1767889633146001IzVe.jpg
END:VEVENT
BEGIN:VEVENT
DTSTART;TZID=America/New_York:20260424T000000
DTEND;TZID=America/New_York:20260424T235959
DTSTAMP:20260422T010523
CREATED:20260228T134546Z
LAST-MODIFIED:20260228T134546Z
UID:156520-1776988800-1777075199@vimooz.com
SUMMARY:Omaha (in Theaters)
DESCRIPTION:Read more
URL:https://vimooz.com/calendar/omaha-in-theaters/
CATEGORIES:Film Release Calendar
ATTACH;FMTTYPE=image/jpeg:https://images.vimooz.com/wp-content/uploads/2026/02/12072724/Omaha-Still_2.jpg
END:VEVENT
BEGIN:VEVENT
DTSTART;TZID=America/New_York:20260424T000000
DTEND;TZID=America/New_York:20260424T235959
DTSTAMP:20260422T010523
CREATED:20260331T131345Z
LAST-MODIFIED:20260406T145439Z
UID:157181-1776988800-1777075199@vimooz.com
SUMMARY:Mistura (in Theaters - New York and Miami)
DESCRIPTION:Read more
URL:https://vimooz.com/calendar/mistura-in-theaters-new-york-and-miami/
CATEGORIES:Film Release Calendar
ATTACH;FMTTYPE=image/jpeg:https://images.vimooz.com/wp-content/uploads/2026/03/20110517/Mistura.jpg
END:VEVENT
BEGIN:VEVENT
DTSTART;TZID=America/New_York:20260424T000000
DTEND;TZID=America/New_York:20260424T235959
DTSTAMP:20260422T010523
CREATED:20260331T132807Z
LAST-MODIFIED:20260406T145428Z
UID:157203-1776988800-1777075199@vimooz.com
SUMMARY:Two Seasons\, Two Strangers (in Theaters)
DESCRIPTION:Read more
URL:https://vimooz.com/calendar/two-seasons-two-strangers-in-theaters/
CATEGORIES:Film Release Calendar
ATTACH;FMTTYPE=image/jpeg:https://images.vimooz.com/wp-content/uploads/2026/03/17081215/Two-Seasons-Two-Strangers.jpg
END:VEVENT
BEGIN:VEVENT
DTSTART;TZID=America/New_York:20260424T000000
DTEND;TZID=America/New_York:20260424T235959
DTSTAMP:20260422T010523
CREATED:20260331T133102Z
LAST-MODIFIED:20260406T145421Z
UID:157207-1776988800-1777075199@vimooz.com
SUMMARY:Desert Warrior (in Theaters)
DESCRIPTION:Read more
URL:https://vimooz.com/calendar/desert-warrior-in-theaters/
CATEGORIES:Film Release Calendar
ATTACH;FMTTYPE=image/jpeg:https://images.vimooz.com/wp-content/uploads/2026/03/13122449/Desert-Warrior.jpg
END:VEVENT
BEGIN:VEVENT
DTSTART;TZID=America/New_York:20260424T000000
DTEND;TZID=America/New_York:20260424T235959
DTSTAMP:20260422T010523
CREATED:20260331T133518Z
LAST-MODIFIED:20260406T145413Z
UID:157213-1776988800-1777075199@vimooz.com
SUMMARY:Fuze (in Theaters)
DESCRIPTION:Read more
URL:https://vimooz.com/calendar/fuze-in-theaters/
CATEGORIES:Film Release Calendar
ATTACH;FMTTYPE=image/jpeg:https://images.vimooz.com/wp-content/uploads/2026/03/12103621/fuze-Sam_Worthington_in_FUZE_Courtesy_of_Roadside_Attractions_rgb.jpg
END:VEVENT
BEGIN:VEVENT
DTSTART;TZID=America/New_York:20260424T000000
DTEND;TZID=America/New_York:20260424T235959
DTSTAMP:20260422T010523
CREATED:20260331T133652Z
LAST-MODIFIED:20260406T145403Z
UID:157215-1776988800-1777075199@vimooz.com
SUMMARY:Pretty Ugly: The Story of the Lunachicks (in Theaters)
DESCRIPTION:Read more
URL:https://vimooz.com/calendar/pretty-ugly-the-story-of-the-lunachicks-in-theaters/
CATEGORIES:Film Release Calendar
ATTACH;FMTTYPE=image/jpeg:https://images.vimooz.com/wp-content/uploads/2026/03/12061007/Pretty-Ugly-The-Story-of-the-Lunachicks_Photo_Bob_Mussell.jpg
END:VEVENT
BEGIN:VEVENT
DTSTART;TZID=America/New_York:20260424T000000
DTEND;TZID=America/New_York:20260424T235959
DTSTAMP:20260422T010523
CREATED:20260331T134007Z
LAST-MODIFIED:20260406T145352Z
UID:157219-1776988800-1777075199@vimooz.com
SUMMARY:I Swear (in Theaters)
DESCRIPTION:Read more
URL:https://vimooz.com/calendar/i-swear-in-theaters/
CATEGORIES:Film Release Calendar
ATTACH;FMTTYPE=image/jpeg:https://images.vimooz.com/wp-content/uploads/2025/10/26112211/I-Swear.jpg
END:VEVENT
END:VCALENDAR